BEGIN:VCALENDAR
VERSION:2.0
PRODID:-//Ali Pirabi - ECPv6.15.14//NONSGML v1.0//EN
CALSCALE:GREGORIAN
METHOD:PUBLISH
X-WR-CALNAME:Ali Pirabi
X-ORIGINAL-URL:https://alipirabi.de
X-WR-CALDESC:Veranstaltungen für Ali Pirabi
REFRESH-INTERVAL;VALUE=DURATION:PT1H
X-Robots-Tag:noindex
X-PUBLISHED-TTL:PT1H
BEGIN:VTIMEZONE
TZID:Europe/Berlin
BEGIN:DAYLIGHT
TZOFFSETFROM:+0100
TZOFFSETTO:+0200
TZNAME:CEST
DTSTART:20160327T010000
END:DAYLIGHT
BEGIN:STANDARD
TZOFFSETFROM:+0200
TZOFFSETTO:+0100
TZNAME:CET
DTSTART:20161030T010000
END:STANDARD
BEGIN:DAYLIGHT
TZOFFSETFROM:+0100
TZOFFSETTO:+0200
TZNAME:CEST
DTSTART:20170326T010000
END:DAYLIGHT
BEGIN:STANDARD
TZOFFSETFROM:+0200
TZOFFSETTO:+0100
TZNAME:CET
DTSTART:20171029T010000
END:STANDARD
BEGIN:DAYLIGHT
TZOFFSETFROM:+0100
TZOFFSETTO:+0200
TZNAME:CEST
DTSTART:20180325T010000
END:DAYLIGHT
BEGIN:STANDARD
TZOFFSETFROM:+0200
TZOFFSETTO:+0100
TZNAME:CET
DTSTART:20181028T010000
END:STANDARD
END:VTIMEZONE
BEGIN:VEVENT
DTSTART;TZID=Europe/Berlin:20170624T170000
DTEND;TZID=Europe/Berlin:20170624T170000
DTSTAMP:20260421T095438
CREATED:20170621T144911Z
LAST-MODIFIED:20170621T145443Z
UID:865-1498323600-1498323600@alipirabi.de
SUMMARY:Musighistan«-Westöstliche Gesangs- und Klangreisen
DESCRIPTION:
URL:https://alipirabi.de/event/musighistan-westoestliche-gesangs-und-klangreisen/
LOCATION:Dresden\, Kirchgasse 6\, Dresden\, 01326\, Deutschland
END:VEVENT
END:VCALENDAR